BEGIN:VCALENDAR
VERSION:2.0
PRODID:-//eventon.com NONSGML v1.0//EN
CALSCALE:GREGORIAN
METHOD:PUBLISH
BEGIN:VEVENT
UID:69e75ff64ff33
DTSTAMP:20260421T193102
DTSTART:20261031T083000Z
DTEND:20261103T020000Z
TZID:Asia/Kuala_Lumpur
LOCATION:
SUMMARY:Collaborative Synergies: Shaping an Integrative Health Ecosystem for Medical Wellness and Salutogenesis
DESCRIPTION:/* custom css - generated by TagDiv Composer */ /* custom css - generated by TagDiv Composer */ .tdi_2\,  .tdi_2 .tdc-columns{ min-height: 0; }.tdi_2\,  .tdi_2 .tdc-columns{ display: block; }.tdi_2 .tdc-columns{ width: 100%; }.tdi_2:before\,  .tdi_2:after{ display: table; } /* custom css - generated by TagDiv Composer */ /* custom css -[..]\nhttps://www.malaysiabrands.com.my/events/collaborative-synergies-shaping-an-integrative-health-ecosystem-for-medical-wellness-and-salutogenesis/
URL:https://www.malaysiabrands.com.my/events/collaborative-synergies-shaping-an-integrative-health-ecosystem-for-medical-wellness-and-salutogenesis/
END:VEVENT
END:VCALENDAR